BEGIN:VCALENDAR
VERSION:2.0
PRODID:-//Goldgrube//myauktion.com//AT
CALSCALE:GREGORIAN
BEGIN:VEVENT
DTSTART:20260507T092700
DTEND:20260507T092730
LOCATION:Gewerbepark 13, 8562 Mooskirchen
DTSTAMP:20260423T151139
SUMMARY:MyAuktion: Ablauf Artikel Nr. 443185 Dusch WC HB-L02U-GE 
URL;VALUE=URI:https://www.myauktion.com/versteigerung7663-position2444541-dusch-wc-hb-l02u-ge.php
DESCRIPTION:
UID:myauktion-7663-2444541
BEGIN:VALARM
ACTION:DISPLAY
DESCRIPTION:
TRIGGER:-PT10M
END:VALARM
END:VEVENT
END:VCALENDAR