BEGIN:VCALENDAR
VERSION:2.0
PRODID:-//Goldgrube//myauktion.com//AT
CALSCALE:GREGORIAN
BEGIN:VEVENT
DTSTART:20260507T092800
DTEND:20260507T092830
LOCATION:Gewerbepark 13, 8562 Mooskirchen
DTSTAMP:20260423T151125
SUMMARY:MyAuktion: Ablauf Artikel Nr. 443186 Nokia Yellow GSM 900/180 
URL;VALUE=URI:https://www.myauktion.com/versteigerung7663-position2444542-nokia-yellow-gsm-900-180.php
DESCRIPTION:
UID:myauktion-7663-2444542
BEGIN:VALARM
ACTION:DISPLAY
DESCRIPTION:
TRIGGER:-PT10M
END:VALARM
END:VEVENT
END:VCALENDAR