BEGIN:VCALENDAR
VERSION:2.0
PRODID:-//Goldgrube//myauktion.com//AT
CALSCALE:GREGORIAN
BEGIN:VEVENT
DTSTART:20260507T114200
DTEND:20260507T114230
LOCATION:Gewerbepark 13, 8562 Mooskirchen
DTSTAMP:20260423T205514
SUMMARY:MyAuktion: Ablauf Artikel Nr. 443720 Träumgut24 Matratze ca 180×90cm
URL;VALUE=URI:https://www.myauktion.com/versteigerung7663-position2444543-traeumgut24-matratze-ca-18090cm.php
DESCRIPTION:Verschmutzt
UID:myauktion-7663-2444543
BEGIN:VALARM
ACTION:DISPLAY
DESCRIPTION:Verschmutzt
TRIGGER:-PT10M
END:VALARM
END:VEVENT
END:VCALENDAR