BEGIN:VCALENDAR
VERSION:2.0
PRODID:-//Goldgrube//myauktion.com//AT
CALSCALE:GREGORIAN
BEGIN:VEVENT
DTSTART:20260507T093100
DTEND:20260507T093130
LOCATION:Gewerbepark 13, 8562 Mooskirchen
DTSTAMP:20260423T151136
SUMMARY:MyAuktion: Ablauf Artikel Nr. 443188 DT Swiss ERC 1400 Felge 
URL;VALUE=URI:https://www.myauktion.com/versteigerung7663-position2444546-dt-swiss-erc-1400-felge.php
DESCRIPTION:
UID:myauktion-7663-2444546
BEGIN:VALARM
ACTION:DISPLAY
DESCRIPTION:
TRIGGER:-PT10M
END:VALARM
END:VEVENT
END:VCALENDAR