BEGIN:VCALENDAR
VERSION:2.0
PRODID:-//Goldgrube//myauktion.com//AT
CALSCALE:GREGORIAN
BEGIN:VEVENT
DTSTART:20260507T114500
DTEND:20260507T114530
LOCATION:Gewerbepark 13, 8562 Mooskirchen
DTSTAMP:20260423T205518
SUMMARY:MyAuktion: Ablauf Artikel Nr. 443721 KMR Coil Nagelrolle, 3,1×80 H/BK, Art.No. 10502385
URL;VALUE=URI:https://www.myauktion.com/versteigerung7663-position2444548-kmr-coil-nagelrolle-3180-h-bk-artno-10502385.php
DESCRIPTION:
UID:myauktion-7663-2444548
BEGIN:VALARM
ACTION:DISPLAY
DESCRIPTION:
TRIGGER:-PT10M
END:VALARM
END:VEVENT
END:VCALENDAR