BEGIN:VCALENDAR
VERSION:2.0
PRODID:-//Goldgrube//myauktion.com//AT
CALSCALE:GREGORIAN
BEGIN:VEVENT
DTSTART:20260507T093300
DTEND:20260507T093330
LOCATION:Gewerbepark 13, 8562 Mooskirchen
DTSTAMP:20260423T151136
SUMMARY:MyAuktion: Ablauf Artikel Nr. 443190 Apple AirPods with Charging Case MV7N2ZM/A 
URL;VALUE=URI:https://www.myauktion.com/versteigerung7663-position2444550-apple-airpods-with-charging-case-mv7n2zm-a.php
DESCRIPTION:Gebraucht, Funktion nicht getestet 
UID:myauktion-7663-2444550
BEGIN:VALARM
ACTION:DISPLAY
DESCRIPTION:Gebraucht, Funktion nicht getestet 
TRIGGER:-PT10M
END:VALARM
END:VEVENT
END:VCALENDAR