BEGIN:VCALENDAR
VERSION:2.0
PRODID:-//Goldgrube//myauktion.com//AT
CALSCALE:GREGORIAN
BEGIN:VEVENT
DTSTART:20260507T093400
DTEND:20260507T093430
LOCATION:Gewerbepark 13, 8562 Mooskirchen
DTSTAMP:20260423T151121
SUMMARY:MyAuktion: Ablauf Artikel Nr. 443191 Pentart Primer Paste soft gesso 100ml + matte varnish water based 100ml 
URL;VALUE=URI:https://www.myauktion.com/versteigerung7663-position2444551-pentart-primer-paste-soft-gesso-100ml-matte-varnish-water-based-100ml.php
DESCRIPTION:
UID:myauktion-7663-2444551
BEGIN:VALARM
ACTION:DISPLAY
DESCRIPTION:
TRIGGER:-PT10M
END:VALARM
END:VEVENT
END:VCALENDAR