BEGIN:VCALENDAR
VERSION:2.0
PRODID:-//Goldgrube//myauktion.com//AT
CALSCALE:GREGORIAN
BEGIN:VEVENT
DTSTART:20260507T093500
DTEND:20260507T093530
LOCATION:Gewerbepark 13, 8562 Mooskirchen
DTSTAMP:20260423T151138
SUMMARY:MyAuktion: Ablauf Artikel Nr. 443192 Würth Sperrzahnmuttern SW10 ähnl. DiN 6923-8 M6 100Stk 
URL;VALUE=URI:https://www.myauktion.com/versteigerung7663-position2444552-wuerth-sperrzahnmuttern-sw10-aehnl-din-6923-8-m6-100stk.php
DESCRIPTION:
UID:myauktion-7663-2444552
BEGIN:VALARM
ACTION:DISPLAY
DESCRIPTION:
TRIGGER:-PT10M
END:VALARM
END:VEVENT
END:VCALENDAR