BEGIN:VCALENDAR
VERSION:2.0
PRODID:-//Goldgrube//myauktion.com//AT
CALSCALE:GREGORIAN
BEGIN:VEVENT
DTSTART:20260507T114700
DTEND:20260507T114730
LOCATION:Gewerbepark 13, 8562 Mooskirchen
DTSTAMP:20260423T205514
SUMMARY:MyAuktion: Ablauf Artikel Nr. 443723 Generic Tinten Flasche 70ml, Cyan, Art.No. C13T03R240
URL;VALUE=URI:https://www.myauktion.com/versteigerung7663-position2444557-generic-tinten-flasche-70ml-cyan-artno-c13t03r240.php
DESCRIPTION: 
UID:myauktion-7663-2444557
BEGIN:VALARM
ACTION:DISPLAY
DESCRIPTION: 
TRIGGER:-PT10M
END:VALARM
END:VEVENT
END:VCALENDAR