BEGIN:VCALENDAR
VERSION:2.0
PRODID:-//Goldgrube//myauktion.com//AT
CALSCALE:GREGORIAN
BEGIN:VEVENT
DTSTART:20260507T104900
DTEND:20260507T104930
LOCATION:Gewerbepark 13, 8562 Mooskirchen
DTSTAMP:20260423T205516
SUMMARY:MyAuktion: Ablauf Artikel Nr. 443534 Kennametal A4G0305M03U04GUP KCU10 
URL;VALUE=URI:https://www.myauktion.com/versteigerung7663-position2444558-kennametal-a4g0305m03u04gup-kcu10.php
DESCRIPTION:
UID:myauktion-7663-2444558
BEGIN:VALARM
ACTION:DISPLAY
DESCRIPTION:
TRIGGER:-PT10M
END:VALARM
END:VEVENT
END:VCALENDAR