BEGIN:VCALENDAR
VERSION:2.0
PRODID:-//Goldgrube//myauktion.com//AT
CALSCALE:GREGORIAN
BEGIN:VEVENT
DTSTART:20260507T094200
DTEND:20260507T094230
LOCATION:Gewerbepark 13, 8562 Mooskirchen
DTSTAMP:20260423T151132
SUMMARY:MyAuktion: Ablauf Artikel Nr. 443196 Kingston Ironkey Vault Privacy 50C Hardware Encrypted USB 16GB 
URL;VALUE=URI:https://www.myauktion.com/versteigerung7663-position2444560-kingston-ironkey-vault-privacy-50c-hardware-encrypted-usb-16gb.php
DESCRIPTION:
UID:myauktion-7663-2444560
BEGIN:VALARM
ACTION:DISPLAY
DESCRIPTION:
TRIGGER:-PT10M
END:VALARM
END:VEVENT
END:VCALENDAR