BEGIN:VCALENDAR
VERSION:2.0
PRODID:-//Goldgrube//myauktion.com//AT
CALSCALE:GREGORIAN
BEGIN:VEVENT
DTSTART:20260507T114800
DTEND:20260507T114830
LOCATION:Gewerbepark 13, 8562 Mooskirchen
DTSTAMP:20260423T205514
SUMMARY:MyAuktion: Ablauf Artikel Nr. 443724 Generic Tinten Flasche 70ml, Magenta, Art.No. C13T03R340
URL;VALUE=URI:https://www.myauktion.com/versteigerung7663-position2444561-generic-tinten-flasche-70ml-magenta-artno-c13t03r340.php
DESCRIPTION:
UID:myauktion-7663-2444561
BEGIN:VALARM
ACTION:DISPLAY
DESCRIPTION:
TRIGGER:-PT10M
END:VALARM
END:VEVENT
END:VCALENDAR