BEGIN:VCALENDAR
VERSION:2.0
PRODID:-//Goldgrube//myauktion.com//AT
CALSCALE:GREGORIAN
BEGIN:VEVENT
DTSTART:20260507T105000
DTEND:20260507T105030
LOCATION:Gewerbepark 13, 8562 Mooskirchen
DTSTAMP:20260423T205513
SUMMARY:MyAuktion: Ablauf Artikel Nr. 443535 WIKAI Mannometer 897W33583132
URL;VALUE=URI:https://www.myauktion.com/versteigerung7663-position2444562-wikai-mannometer-897w33583132.php
DESCRIPTION:
UID:myauktion-7663-2444562
BEGIN:VALARM
ACTION:DISPLAY
DESCRIPTION:
TRIGGER:-PT10M
END:VALARM
END:VEVENT
END:VCALENDAR