BEGIN:VCALENDAR
VERSION:2.0
PRODID:-//Goldgrube//myauktion.com//AT
CALSCALE:GREGORIAN
BEGIN:VEVENT
DTSTART:20260507T114900
DTEND:20260507T114930
LOCATION:Gewerbepark 13, 8562 Mooskirchen
DTSTAMP:20260423T205522
SUMMARY:MyAuktion: Ablauf Artikel Nr. 443725 Generic Tinten Flasche 70ml, Gelb, Art.No. C13T03R440
URL;VALUE=URI:https://www.myauktion.com/versteigerung7663-position2444563-generic-tinten-flasche-70ml-gelb-artno-c13t03r440.php
DESCRIPTION:
UID:myauktion-7663-2444563
BEGIN:VALARM
ACTION:DISPLAY
DESCRIPTION:
TRIGGER:-PT10M
END:VALARM
END:VEVENT
END:VCALENDAR