BEGIN:VCALENDAR
VERSION:2.0
PRODID:-//Goldgrube//myauktion.com//AT
CALSCALE:GREGORIAN
BEGIN:VEVENT
DTSTART:20260507T094300
DTEND:20260507T094330
LOCATION:Gewerbepark 13, 8562 Mooskirchen
DTSTAMP:20260423T151138
SUMMARY:MyAuktion: Ablauf Artikel Nr. 443197 Thermo Etiketten Rollen 4Stk ERT-TT-Z-102X076-ER 
URL;VALUE=URI:https://www.myauktion.com/versteigerung7663-position2444564-thermo-etiketten-rollen-4stk-ert-tt-z-102x076-er.php
DESCRIPTION:
UID:myauktion-7663-2444564
BEGIN:VALARM
ACTION:DISPLAY
DESCRIPTION:
TRIGGER:-PT10M
END:VALARM
END:VEVENT
END:VCALENDAR