BEGIN:VCALENDAR
VERSION:2.0
PRODID:-//Goldgrube//myauktion.com//AT
CALSCALE:GREGORIAN
BEGIN:VEVENT
DTSTART:20260507T105100
DTEND:20260507T105130
LOCATION:Gewerbepark 13, 8562 Mooskirchen
DTSTAMP:20260423T205521
SUMMARY:MyAuktion: Ablauf Artikel Nr. 443536 Kugellager ELW 6204 RS  250380334
URL;VALUE=URI:https://www.myauktion.com/versteigerung7663-position2444565-kugellager-elw-6204-rs-250380334.php
DESCRIPTION:Beschmutzt 
UID:myauktion-7663-2444565
BEGIN:VALARM
ACTION:DISPLAY
DESCRIPTION:Beschmutzt 
TRIGGER:-PT10M
END:VALARM
END:VEVENT
END:VCALENDAR