BEGIN:VCALENDAR
VERSION:2.0
PRODID:-//Goldgrube//myauktion.com//AT
CALSCALE:GREGORIAN
BEGIN:VEVENT
DTSTART:20260507T094400
DTEND:20260507T094430
LOCATION:Gewerbepark 13, 8562 Mooskirchen
DTSTAMP:20260423T142953
SUMMARY:MyAuktion: Ablauf Artikel Nr. 443198 Gardena Schlauch Anschluss Satz ø13-15mm 
URL;VALUE=URI:https://www.myauktion.com/versteigerung7663-position2444566-gardena-schlauch-anschluss-satz-13-15mm.php
DESCRIPTION:
UID:myauktion-7663-2444566
BEGIN:VALARM
ACTION:DISPLAY
DESCRIPTION:
TRIGGER:-PT10M
END:VALARM
END:VEVENT
END:VCALENDAR