BEGIN:VCALENDAR
VERSION:2.0
PRODID:-//Goldgrube//myauktion.com//AT
CALSCALE:GREGORIAN
BEGIN:VEVENT
DTSTART:20260507T105200
DTEND:20260507T105230
LOCATION:Gewerbepark 13, 8562 Mooskirchen
DTSTAMP:20260423T205518
SUMMARY:MyAuktion: Ablauf Artikel Nr. 443537 Bohrerschärfvorrichtung 
URL;VALUE=URI:https://www.myauktion.com/versteigerung7663-position2444567-bohrerschaerfvorrichtung.php
DESCRIPTION:Benutzer beschmutzt 
UID:myauktion-7663-2444567
BEGIN:VALARM
ACTION:DISPLAY
DESCRIPTION:Benutzer beschmutzt 
TRIGGER:-PT10M
END:VALARM
END:VEVENT
END:VCALENDAR