BEGIN:VCALENDAR
VERSION:2.0
PRODID:-//Goldgrube//myauktion.com//AT
CALSCALE:GREGORIAN
BEGIN:VEVENT
DTSTART:20260507T094500
DTEND:20260507T094530
LOCATION:Gewerbepark 13, 8562 Mooskirchen
DTSTAMP:20260423T151135
SUMMARY:MyAuktion: Ablauf Artikel Nr. 443199 Black Suit Lastar Paris Eau de Parfum 30ml 
URL;VALUE=URI:https://www.myauktion.com/versteigerung7663-position2444568-black-suit-lastar-paris-eau-de-parfum-30ml.php
DESCRIPTION:MHD 05.01.2030 
UID:myauktion-7663-2444568
BEGIN:VALARM
ACTION:DISPLAY
DESCRIPTION:MHD 05.01.2030 
TRIGGER:-PT10M
END:VALARM
END:VEVENT
END:VCALENDAR