BEGIN:VCALENDAR
VERSION:2.0
PRODID:-//Goldgrube//myauktion.com//AT
CALSCALE:GREGORIAN
BEGIN:VEVENT
DTSTART:20260507T115000
DTEND:20260507T115030
LOCATION:Gewerbepark 13, 8562 Mooskirchen
DTSTAMP:20260423T205521
SUMMARY:MyAuktion: Ablauf Artikel Nr. 443726 Stiefeletten in Beige Größe 41
URL;VALUE=URI:https://www.myauktion.com/versteigerung7663-position2444569-stiefeletten-in-beige-groesse-41.php
DESCRIPTION:
UID:myauktion-7663-2444569
BEGIN:VALARM
ACTION:DISPLAY
DESCRIPTION:
TRIGGER:-PT10M
END:VALARM
END:VEVENT
END:VCALENDAR