BEGIN:VCALENDAR
VERSION:2.0
PRODID:-//Goldgrube//myauktion.com//AT
CALSCALE:GREGORIAN
BEGIN:VEVENT
DTSTART:20260507T094600
DTEND:20260507T094630
LOCATION:Gewerbepark 13, 8562 Mooskirchen
DTSTAMP:20260423T151131
SUMMARY:MyAuktion: Ablauf Artikel Nr. 443200 Lastar Coffee & Cream Vanilla Sweet Sensuality for one night Eau de Parfum 50ml 
URL;VALUE=URI:https://www.myauktion.com/versteigerung7663-position2444570-lastar-coffee-38-cream-vanilla-sweet-sensuality-for-one-night-eau-de-parfum-50ml.php
DESCRIPTION:MHD 20.07.2030 
UID:myauktion-7663-2444570
BEGIN:VALARM
ACTION:DISPLAY
DESCRIPTION:MHD 20.07.2030 
TRIGGER:-PT10M
END:VALARM
END:VEVENT
END:VCALENDAR