BEGIN:VCALENDAR
VERSION:2.0
PRODID:-//Goldgrube//myauktion.com//AT
CALSCALE:GREGORIAN
BEGIN:VEVENT
DTSTART:20260507T094700
DTEND:20260507T094730
LOCATION:Gewerbepark 13, 8562 Mooskirchen
DTSTAMP:20260423T151140
SUMMARY:MyAuktion: Ablauf Artikel Nr. 443201 Lastar for one night Eau de Parfum 55ml 
URL;VALUE=URI:https://www.myauktion.com/versteigerung7663-position2444571-lastar-for-one-night-eau-de-parfum-55ml.php
DESCRIPTION:MHD 23.05.2030 
UID:myauktion-7663-2444571
BEGIN:VALARM
ACTION:DISPLAY
DESCRIPTION:MHD 23.05.2030 
TRIGGER:-PT10M
END:VALARM
END:VEVENT
END:VCALENDAR