BEGIN:VCALENDAR
VERSION:2.0
PRODID:-//Goldgrube//myauktion.com//AT
CALSCALE:GREGORIAN
BEGIN:VEVENT
DTSTART:20260507T105300
DTEND:20260507T105330
LOCATION:Gewerbepark 13, 8562 Mooskirchen
DTSTAMP:20260423T205522
SUMMARY:MyAuktion: Ablauf Artikel Nr. 443538 Aluminium Kugeln 
URL;VALUE=URI:https://www.myauktion.com/versteigerung7663-position2444572-aluminium-kugeln.php
DESCRIPTION:Keine weiteren Infos ersichtlich 
UID:myauktion-7663-2444572
BEGIN:VALARM
ACTION:DISPLAY
DESCRIPTION:Keine weiteren Infos ersichtlich 
TRIGGER:-PT10M
END:VALARM
END:VEVENT
END:VCALENDAR