BEGIN:VCALENDAR
VERSION:2.0
PRODID:-//Goldgrube//myauktion.com//AT
CALSCALE:GREGORIAN
BEGIN:VEVENT
DTSTART:20260507T105400
DTEND:20260507T105430
LOCATION:Gewerbepark 13, 8562 Mooskirchen
DTSTAMP:20260423T205519
SUMMARY:MyAuktion: Ablauf Artikel Nr. 443539 INA Essentials Sun Kiss Protection 50+ 100ml
URL;VALUE=URI:https://www.myauktion.com/versteigerung7663-position2444574-ina-essentials-sun-kiss-protection-50-100ml.php
DESCRIPTION:
UID:myauktion-7663-2444574
BEGIN:VALARM
ACTION:DISPLAY
DESCRIPTION:
TRIGGER:-PT10M
END:VALARM
END:VEVENT
END:VCALENDAR