BEGIN:VCALENDAR
VERSION:2.0
PRODID:-//Goldgrube//myauktion.com//AT
CALSCALE:GREGORIAN
BEGIN:VEVENT
DTSTART:20260507T115100
DTEND:20260507T115130
LOCATION:Gewerbepark 13, 8562 Mooskirchen
DTSTAMP:20260423T205518
SUMMARY:MyAuktion: Ablauf Artikel Nr. 443727 TOM&#39;s Damen Sandalen, Majorca Strappy Flame Suede, Größe 39
URL;VALUE=URI:https://www.myauktion.com/versteigerung7663-position2444575-tom-39s-damen-sandalen-majorca-strappy-flame-suede-groesse-39.php
DESCRIPTION:
UID:myauktion-7663-2444575
BEGIN:VALARM
ACTION:DISPLAY
DESCRIPTION:
TRIGGER:-PT10M
END:VALARM
END:VEVENT
END:VCALENDAR