BEGIN:VCALENDAR
VERSION:2.0
PRODID:-//Goldgrube//myauktion.com//AT
CALSCALE:GREGORIAN
BEGIN:VEVENT
DTSTART:20260507T105500
DTEND:20260507T105530
LOCATION:Gewerbepark 13, 8562 Mooskirchen
DTSTAMP:20260423T205522
SUMMARY:MyAuktion: Ablauf Artikel Nr. 443540 Z.M.C Mehrzweck Gasbrenner No: 8816D
URL;VALUE=URI:https://www.myauktion.com/versteigerung7663-position2444576-zmc-mehrzweck-gasbrenner-no-8816d.php
DESCRIPTION:
UID:myauktion-7663-2444576
BEGIN:VALARM
ACTION:DISPLAY
DESCRIPTION:
TRIGGER:-PT10M
END:VALARM
END:VEVENT
END:VCALENDAR