BEGIN:VCALENDAR
VERSION:2.0
PRODID:-//Goldgrube//myauktion.com//AT
CALSCALE:GREGORIAN
BEGIN:VEVENT
DTSTART:20260507T115200
DTEND:20260507T115230
LOCATION:Gewerbepark 13, 8562 Mooskirchen
DTSTAMP:20260424T045033
SUMMARY:MyAuktion: Ablauf Artikel Nr. 443728 Elegant Heizkörper, Weiß, Doppellagig, 1800×308mm, Art.No. GRF1830WD
URL;VALUE=URI:https://www.myauktion.com/versteigerung7663-position2444578-elegant-heizkoerper-weiss-doppellagig-1800308mm-artno-grf1830wd.php
DESCRIPTION:
UID:myauktion-7663-2444578
BEGIN:VALARM
ACTION:DISPLAY
DESCRIPTION:
TRIGGER:-PT10M
END:VALARM
END:VEVENT
END:VCALENDAR