BEGIN:VCALENDAR
VERSION:2.0
PRODID:-//Goldgrube//myauktion.com//AT
CALSCALE:GREGORIAN
BEGIN:VEVENT
DTSTART:20260507T105700
DTEND:20260507T105730
LOCATION:Gewerbepark 13, 8562 Mooskirchen
DTSTAMP:20260423T205521
SUMMARY:MyAuktion: Ablauf Artikel Nr. 443542 Diverse Bodenhülse 27cm und 6ø
URL;VALUE=URI:https://www.myauktion.com/versteigerung7663-position2444579-diverse-bodenhuelse-27cm-und-6.php
DESCRIPTION:Verschmutzt 
UID:myauktion-7663-2444579
BEGIN:VALARM
ACTION:DISPLAY
DESCRIPTION:Verschmutzt 
TRIGGER:-PT10M
END:VALARM
END:VEVENT
END:VCALENDAR