BEGIN:VCALENDAR
VERSION:2.0
PRODID:-//Goldgrube//myauktion.com//AT
CALSCALE:GREGORIAN
BEGIN:VEVENT
DTSTART:20260507T105800
DTEND:20260507T105830
LOCATION:Gewerbepark 13, 8562 Mooskirchen
DTSTAMP:20260423T205523
SUMMARY:MyAuktion: Ablauf Artikel Nr. 443543 Diverser Zylinder  ca 11x 3cm 
URL;VALUE=URI:https://www.myauktion.com/versteigerung7663-position2444580-diverser-zylinder-ca-11x-3cm.php
DESCRIPTION:
UID:myauktion-7663-2444580
BEGIN:VALARM
ACTION:DISPLAY
DESCRIPTION:
TRIGGER:-PT10M
END:VALARM
END:VEVENT
END:VCALENDAR