BEGIN:VCALENDAR
VERSION:2.0
PRODID:-//Goldgrube//myauktion.com//AT
CALSCALE:GREGORIAN
BEGIN:VEVENT
DTSTART:20260507T095200
DTEND:20260507T095230
LOCATION:Gewerbepark 13, 8562 Mooskirchen
DTSTAMP:20260423T151124
SUMMARY:MyAuktion: Ablauf Artikel Nr. 443203 Schleich Eldrador BattleCavr Included 
URL;VALUE=URI:https://www.myauktion.com/versteigerung7663-position2444581-schleich-eldrador-battlecavr-included.php
DESCRIPTION:
UID:myauktion-7663-2444581
BEGIN:VALARM
ACTION:DISPLAY
DESCRIPTION:
TRIGGER:-PT10M
END:VALARM
END:VEVENT
END:VCALENDAR