BEGIN:VCALENDAR
VERSION:2.0
PRODID:-//Goldgrube//myauktion.com//AT
CALSCALE:GREGORIAN
BEGIN:VEVENT
DTSTART:20260507T115300
DTEND:20260507T115330
LOCATION:Gewerbepark 13, 8562 Mooskirchen
DTSTAMP:20260424T045034
SUMMARY:MyAuktion: Ablauf Artikel Nr. 443729 Bosch Schlag- Bohrmaschine ohne Akku, Model Nr. GBH 18V-22
URL;VALUE=URI:https://www.myauktion.com/versteigerung7663-position2444582-bosch-schlag-bohrmaschine-ohne-akku-model-nr-gbh-18v-22.php
DESCRIPTION:Gebraucht, verschmutzt, Funktion nicht getestet
UID:myauktion-7663-2444582
BEGIN:VALARM
ACTION:DISPLAY
DESCRIPTION:Gebraucht, verschmutzt, Funktion nicht getestet
TRIGGER:-PT10M
END:VALARM
END:VEVENT
END:VCALENDAR