BEGIN:VCALENDAR
VERSION:2.0
PRODID:-//Goldgrube//myauktion.com//AT
CALSCALE:GREGORIAN
BEGIN:VEVENT
DTSTART:20260507T095600
DTEND:20260507T095630
LOCATION:Gewerbepark 13, 8562 Mooskirchen
DTSTAMP:20260423T151134
SUMMARY:MyAuktion: Ablauf Artikel Nr. 443206 Sigel CD/DVD Etiketten Classic Size 50Stk 
URL;VALUE=URI:https://www.myauktion.com/versteigerung7663-position2444586-sigel-cd-dvd-etiketten-classic-size-50stk.php
DESCRIPTION:
UID:myauktion-7663-2444586
BEGIN:VALARM
ACTION:DISPLAY
DESCRIPTION:
TRIGGER:-PT10M
END:VALARM
END:VEVENT
END:VCALENDAR