BEGIN:VCALENDAR
VERSION:2.0
PRODID:-//Goldgrube//myauktion.com//AT
CALSCALE:GREGORIAN
BEGIN:VEVENT
DTSTART:20260507T095700
DTEND:20260507T095730
LOCATION:Gewerbepark 13, 8562 Mooskirchen
DTSTAMP:20260423T151123
SUMMARY:MyAuktion: Ablauf Artikel Nr. 443207 Top Stick labels A4 210x297mm 100Stk 
URL;VALUE=URI:https://www.myauktion.com/versteigerung7663-position2444588-top-stick-labels-a4-210x297mm-100stk.php
DESCRIPTION:
UID:myauktion-7663-2444588
BEGIN:VALARM
ACTION:DISPLAY
DESCRIPTION:
TRIGGER:-PT10M
END:VALARM
END:VEVENT
END:VCALENDAR