BEGIN:VCALENDAR
VERSION:2.0
PRODID:-//Goldgrube//myauktion.com//AT
CALSCALE:GREGORIAN
BEGIN:VEVENT
DTSTART:20260507T122700
DTEND:20260507T122730
LOCATION:Gewerbepark 13, 8562 Mooskirchen
DTSTAMP:20260423T205523
SUMMARY:MyAuktion: Ablauf Artikel Nr. 444149 Blumentopf Plastik
URL;VALUE=URI:https://www.myauktion.com/versteigerung7663-position2444591-blumentopf-plastik.php
DESCRIPTION:Dm 17.5cm
UID:myauktion-7663-2444591
BEGIN:VALARM
ACTION:DISPLAY
DESCRIPTION:Dm 17.5cm
TRIGGER:-PT10M
END:VALARM
END:VEVENT
END:VCALENDAR