BEGIN:VCALENDAR
VERSION:2.0
PRODID:-//Goldgrube//myauktion.com//AT
CALSCALE:GREGORIAN
BEGIN:VEVENT
DTSTART:20260507T122800
DTEND:20260507T122830
LOCATION:Gewerbepark 13, 8562 Mooskirchen
DTSTAMP:20260424T045035
SUMMARY:MyAuktion: Ablauf Artikel Nr. 444150 Fronius Aufnahme RA Wellenschlauch 42 0100 1094
URL;VALUE=URI:https://www.myauktion.com/versteigerung7663-position2444595-fronius-aufnahme-ra-wellenschlauch-42-0100-1094.php
DESCRIPTION:Gebraucht ,funktion nicht geprüft
UID:myauktion-7663-2444595
BEGIN:VALARM
ACTION:DISPLAY
DESCRIPTION:Gebraucht ,funktion nicht geprüft
TRIGGER:-PT10M
END:VALARM
END:VEVENT
END:VCALENDAR