BEGIN:VCALENDAR
VERSION:2.0
PRODID:-//Goldgrube//myauktion.com//AT
CALSCALE:GREGORIAN
BEGIN:VEVENT
DTSTART:20260507T100300
DTEND:20260507T100330
LOCATION:Gewerbepark 13, 8562 Mooskirchen
DTSTAMP:20260423T205517
SUMMARY:MyAuktion: Ablauf Artikel Nr. 443211 Lastar City Pulse Eau de Parfum 55ml 
URL;VALUE=URI:https://www.myauktion.com/versteigerung7663-position2444596-lastar-city-pulse-eau-de-parfum-55ml.php
DESCRIPTION:MHD 10.06.2030 
UID:myauktion-7663-2444596
BEGIN:VALARM
ACTION:DISPLAY
DESCRIPTION:MHD 10.06.2030 
TRIGGER:-PT10M
END:VALARM
END:VEVENT
END:VCALENDAR