BEGIN:VCALENDAR
VERSION:2.0
PRODID:-//Goldgrube//myauktion.com//AT
CALSCALE:GREGORIAN
BEGIN:VEVENT
DTSTART:20260507T122900
DTEND:20260507T122930
LOCATION:Gewerbepark 13, 8562 Mooskirchen
DTSTAMP:20260423T205523
SUMMARY:MyAuktion: Ablauf Artikel Nr. 444151 Friedberg Schrauben 10.9 
URL;VALUE=URI:https://www.myauktion.com/versteigerung7663-position2444597-friedberg-schrauben-109.php
DESCRIPTION:
UID:myauktion-7663-2444597
BEGIN:VALARM
ACTION:DISPLAY
DESCRIPTION:
TRIGGER:-PT10M
END:VALARM
END:VEVENT
END:VCALENDAR