BEGIN:VCALENDAR
VERSION:2.0
PRODID:-//Goldgrube//myauktion.com//AT
CALSCALE:GREGORIAN
BEGIN:VEVENT
DTSTART:20260507T110400
DTEND:20260507T110430
LOCATION:Gewerbepark 13, 8562 Mooskirchen
DTSTAMP:20260423T205518
SUMMARY:MyAuktion: Ablauf Artikel Nr. 443547 Kleiner brauner Flauschteppich ca 60x39
URL;VALUE=URI:https://www.myauktion.com/versteigerung7663-position2444598-kleiner-brauner-flauschteppich-ca-60x39.php
DESCRIPTION:
UID:myauktion-7663-2444598
BEGIN:VALARM
ACTION:DISPLAY
DESCRIPTION:
TRIGGER:-PT10M
END:VALARM
END:VEVENT
END:VCALENDAR