BEGIN:VCALENDAR
VERSION:2.0
PRODID:-//Goldgrube//myauktion.com//AT
CALSCALE:GREGORIAN
BEGIN:VEVENT
DTSTART:20260507T100400
DTEND:20260507T100430
LOCATION:Gewerbepark 13, 8562 Mooskirchen
DTSTAMP:20260423T205521
SUMMARY:MyAuktion: Ablauf Artikel Nr. 443212 Belimo SM24A-MOD Drehantrieb 
URL;VALUE=URI:https://www.myauktion.com/versteigerung7663-position2444599-belimo-sm24a-mod-drehantrieb.php
DESCRIPTION:
UID:myauktion-7663-2444599
BEGIN:VALARM
ACTION:DISPLAY
DESCRIPTION:
TRIGGER:-PT10M
END:VALARM
END:VEVENT
END:VCALENDAR