BEGIN:VCALENDAR
VERSION:2.0
PRODID:-//Goldgrube//myauktion.com//AT
CALSCALE:GREGORIAN
BEGIN:VEVENT
DTSTART:20260507T115500
DTEND:20260507T115530
LOCATION:Gewerbepark 13, 8562 Mooskirchen
DTSTAMP:20260423T205511
SUMMARY:MyAuktion: Ablauf Artikel Nr. 443731 Bosch SDS Hammerbohrer Größe 10, ca 40cm lang
URL;VALUE=URI:https://www.myauktion.com/versteigerung7663-position2444600-bosch-sds-hammerbohrer-groesse-10-ca-40cm-lang.php
DESCRIPTION:
UID:myauktion-7663-2444600
BEGIN:VALARM
ACTION:DISPLAY
DESCRIPTION:
TRIGGER:-PT10M
END:VALARM
END:VEVENT
END:VCALENDAR