BEGIN:VCALENDAR
VERSION:2.0
PRODID:-//Goldgrube//myauktion.com//AT
CALSCALE:GREGORIAN
BEGIN:VEVENT
DTSTART:20260507T123000
DTEND:20260507T123030
LOCATION:Gewerbepark 13, 8562 Mooskirchen
DTSTAMP:20260423T205509
SUMMARY:MyAuktion: Ablauf Artikel Nr. 444152 Tomason 7.0JX17H2 114.3 
URL;VALUE=URI:https://www.myauktion.com/versteigerung7663-position2444601-tomason-70jx17h2-1143.php
DESCRIPTION:
UID:myauktion-7663-2444601
BEGIN:VALARM
ACTION:DISPLAY
DESCRIPTION:
TRIGGER:-PT10M
END:VALARM
END:VEVENT
END:VCALENDAR