BEGIN:VCALENDAR
VERSION:2.0
PRODID:-//Goldgrube//myauktion.com//AT
CALSCALE:GREGORIAN
BEGIN:VEVENT
DTSTART:20260507T123400
DTEND:20260507T123430
LOCATION:Gewerbepark 13, 8562 Mooskirchen
DTSTAMP:20260423T205505
SUMMARY:MyAuktion: Ablauf Artikel Nr. 444154 Teppich 90%Wool 10% Cotton 10mm
URL;VALUE=URI:https://www.myauktion.com/versteigerung7663-position2444608-teppich-90wool-10-cotton-10mm.php
DESCRIPTION:
UID:myauktion-7663-2444608
BEGIN:VALARM
ACTION:DISPLAY
DESCRIPTION:
TRIGGER:-PT10M
END:VALARM
END:VEVENT
END:VCALENDAR