BEGIN:VCALENDAR
VERSION:2.0
PRODID:-//Goldgrube//myauktion.com//AT
CALSCALE:GREGORIAN
BEGIN:VEVENT
DTSTART:20260507T111000
DTEND:20260507T111030
LOCATION:Gewerbepark 13, 8562 Mooskirchen
DTSTAMP:20260423T205511
SUMMARY:MyAuktion: Ablauf Artikel Nr. 443550 Salinyang brown pu Größe 41 DES658P
URL;VALUE=URI:https://www.myauktion.com/versteigerung7663-position2444609-salinyang-brown-pu-groesse-41-des658p.php
DESCRIPTION:
UID:myauktion-7663-2444609
BEGIN:VALARM
ACTION:DISPLAY
DESCRIPTION:
TRIGGER:-PT10M
END:VALARM
END:VEVENT
END:VCALENDAR