BEGIN:VCALENDAR
VERSION:2.0
PRODID:-//Goldgrube//myauktion.com//AT
CALSCALE:GREGORIAN
BEGIN:VEVENT
DTSTART:20260507T101100
DTEND:20260507T101130
LOCATION:Gewerbepark 13, 8562 Mooskirchen
DTSTAMP:20260423T192635
SUMMARY:MyAuktion: Ablauf Artikel Nr. 443215 Tisch schwarz Platte ca. 60x60cm 
URL;VALUE=URI:https://www.myauktion.com/versteigerung7663-position2444611-tisch-schwarz-platte-ca-60x60cm.php
DESCRIPTION:Keine weiteren Daten ersichtlich
UID:myauktion-7663-2444611
BEGIN:VALARM
ACTION:DISPLAY
DESCRIPTION:Keine weiteren Daten ersichtlich
TRIGGER:-PT10M
END:VALARM
END:VEVENT
END:VCALENDAR