BEGIN:VCALENDAR
VERSION:2.0
PRODID:-//Goldgrube//myauktion.com//AT
CALSCALE:GREGORIAN
BEGIN:VEVENT
DTSTART:20260507T123500
DTEND:20260507T123530
LOCATION:Gewerbepark 13, 8562 Mooskirchen
DTSTAMP:20260423T192637
SUMMARY:MyAuktion: Ablauf Artikel Nr. 444155 Medisana Shiatzu Massagesiztauflage 
URL;VALUE=URI:https://www.myauktion.com/versteigerung7663-position2444613-medisana-shiatzu-massagesiztauflage.php
DESCRIPTION:Gebraucht ,funktion nicht geprüft
UID:myauktion-7663-2444613
BEGIN:VALARM
ACTION:DISPLAY
DESCRIPTION:Gebraucht ,funktion nicht geprüft
TRIGGER:-PT10M
END:VALARM
END:VEVENT
END:VCALENDAR