BEGIN:VCALENDAR
VERSION:2.0
PRODID:-//Goldgrube//myauktion.com//AT
CALSCALE:GREGORIAN
BEGIN:VEVENT
DTSTART:20260507T101200
DTEND:20260507T101230
LOCATION:Gewerbepark 13, 8562 Mooskirchen
DTSTAMP:20260423T192635
SUMMARY:MyAuktion: Ablauf Artikel Nr. 443216 Unho Flat Panel TV Trolley U-990A-V1 
URL;VALUE=URI:https://www.myauktion.com/versteigerung7663-position2444615-unho-flat-panel-tv-trolley-u-990a-v1.php
DESCRIPTION:
UID:myauktion-7663-2444615
BEGIN:VALARM
ACTION:DISPLAY
DESCRIPTION:
TRIGGER:-PT10M
END:VALARM
END:VEVENT
END:VCALENDAR