BEGIN:VCALENDAR
VERSION:2.0
PRODID:-//Goldgrube//myauktion.com//AT
CALSCALE:GREGORIAN
BEGIN:VEVENT
DTSTART:20260507T123800
DTEND:20260507T123830
LOCATION:Gewerbepark 13, 8562 Mooskirchen
DTSTAMP:20260423T192633
SUMMARY:MyAuktion: Ablauf Artikel Nr. 444158 Lastar Jade Current Eau de Parfüm 50ml
URL;VALUE=URI:https://www.myauktion.com/versteigerung7663-position2444621-lastar-jade-current-eau-de-parfuem-50ml.php
DESCRIPTION:
UID:myauktion-7663-2444621
BEGIN:VALARM
ACTION:DISPLAY
DESCRIPTION:
TRIGGER:-PT10M
END:VALARM
END:VEVENT
END:VCALENDAR