BEGIN:VCALENDAR
VERSION:2.0
PRODID:-//Goldgrube//myauktion.com//AT
CALSCALE:GREGORIAN
BEGIN:VEVENT
DTSTART:20260507T101500
DTEND:20260507T101530
LOCATION:Gewerbepark 13, 8562 Mooskirchen
DTSTAMP:20260423T205507
SUMMARY:MyAuktion: Ablauf Artikel Nr. 443219 Robus400 Schwerlast Regal 180x180x60cm 
URL;VALUE=URI:https://www.myauktion.com/versteigerung7663-position2444622-robus400-schwerlast-regal-180x180x60cm.php
DESCRIPTION:
UID:myauktion-7663-2444622
BEGIN:VALARM
ACTION:DISPLAY
DESCRIPTION:
TRIGGER:-PT10M
END:VALARM
END:VEVENT
END:VCALENDAR