BEGIN:VCALENDAR
VERSION:2.0
PRODID:-//Goldgrube//myauktion.com//AT
CALSCALE:GREGORIAN
BEGIN:VEVENT
DTSTART:20260507T120000
DTEND:20260507T120030
LOCATION:Gewerbepark 13, 8562 Mooskirchen
DTSTAMP:20260423T192637
SUMMARY:MyAuktion: Ablauf Artikel Nr. 443734 Metabo Hauswasserwerk HWW 6000/25 Inox
URL;VALUE=URI:https://www.myauktion.com/versteigerung7663-position2444624-metabo-hauswasserwerk-hww-6000-25-inox.php
DESCRIPTION:Gebraucht, Verschmutzt, funktion nicht getestet
UID:myauktion-7663-2444624
BEGIN:VALARM
ACTION:DISPLAY
DESCRIPTION:Gebraucht, Verschmutzt, funktion nicht getestet
TRIGGER:-PT10M
END:VALARM
END:VEVENT
END:VCALENDAR