BEGIN:VCALENDAR
VERSION:2.0
PRODID:-//Goldgrube//myauktion.com//AT
CALSCALE:GREGORIAN
BEGIN:VEVENT
DTSTART:20260507T111700
DTEND:20260507T111730
LOCATION:Gewerbepark 13, 8562 Mooskirchen
DTSTAMP:20260423T192637
SUMMARY:MyAuktion: Ablauf Artikel Nr. 443554 Inter Link Leonie Modell 23 207x96x62cm 
URL;VALUE=URI:https://www.myauktion.com/versteigerung7663-position2444625-inter-link-leonie-modell-23-207x96x62cm.php
DESCRIPTION:2/2 unvollständig 
UID:myauktion-7663-2444625
BEGIN:VALARM
ACTION:DISPLAY
DESCRIPTION:2/2 unvollständig 
TRIGGER:-PT10M
END:VALARM
END:VEVENT
END:VCALENDAR